BEGIN:VCALENDAR
VERSION:2.0
PRODID:-//The Pari Center - ECPv6.15.20//NONSGML v1.0//EN
CALSCALE:GREGORIAN
METHOD:PUBLISH
X-WR-CALNAME:The Pari Center
X-ORIGINAL-URL:https://paricenter.com
X-WR-CALDESC:Events for The Pari Center
REFRESH-INTERVAL;VALUE=DURATION:PT1H
X-Robots-Tag:noindex
X-PUBLISHED-TTL:PT1H
BEGIN:VTIMEZONE
TZID:Europe/Rome
BEGIN:DAYLIGHT
TZOFFSETFROM:+0100
TZOFFSETTO:+0200
TZNAME:CEST
DTSTART:20200329T010000
END:DAYLIGHT
BEGIN:STANDARD
TZOFFSETFROM:+0200
TZOFFSETTO:+0100
TZNAME:CET
DTSTART:20201025T010000
END:STANDARD
BEGIN:DAYLIGHT
TZOFFSETFROM:+0100
TZOFFSETTO:+0200
TZNAME:CEST
DTSTART:20210328T010000
END:DAYLIGHT
BEGIN:STANDARD
TZOFFSETFROM:+0200
TZOFFSETTO:+0100
TZNAME:CET
DTSTART:20211031T010000
END:STANDARD
BEGIN:DAYLIGHT
TZOFFSETFROM:+0100
TZOFFSETTO:+0200
TZNAME:CEST
DTSTART:20220327T010000
END:DAYLIGHT
BEGIN:STANDARD
TZOFFSETFROM:+0200
TZOFFSETTO:+0100
TZNAME:CET
DTSTART:20221030T010000
END:STANDARD
END:VTIMEZONE
BEGIN:VEVENT
DTSTART;TZID=Europe/Rome:20210516T180000
DTEND;TZID=Europe/Rome:20210516T193000
DTSTAMP:20260421T185745
CREATED:20210423T180525Z
LAST-MODIFIED:20240424T090243Z
UID:10000101-1621188000-1621193400@paricenter.com
SUMMARY:Hope and Delusion
DESCRIPTION:https://www.youtube.com/watch?v=ogTF4n-mRXM\n\n\n\n\n\nHope and Delusion: Critical Storytelling for Difficult Times \n\n\n\nwith Robert Norris \n\n\n\nSunday May 169:00am PDT  | 12:00pm EDT  | 5:00pm BST  |  6:00pm CEST \n\n\n\nWhen we realise just how much hangs on our attitudes towards the various forms of crisis we are exposed to\, we may come to see what our work really is. Hope has a curious story to tell. It reminds us of the wealth we carry within us\, but also of how easily we are persuaded to give it all up. This talk attempts to string together disparate stories relating to\, but not necessarily about\, hope\, and aims specifically to raise more questions than it answers. Accompanying the talk there will be breakout and plenary sessions in which participants will be able to articulate their thoughts and responses. \n\n\n\nOn Sunday May 16\, Robert will open our monthly Community Call with a presentation and followed by discussion and Q&A. \n\n\n\nTHIS EVENT IS FREE AND OPEN TO EVERYONE!\n\n\n\nJoin our Zoom meeting via the following link: https://us02web.zoom.us/j/84842167052 \n\n\n\nIf you would like to participate\, have any questions or need any help just contact Eleanor Peat: eleanor@paricenter.com \n\n\n\n\n\n\n\nWhen asked once to provide a blurb for a book on the philosophy of language\, the question of how to describe Robert professionally had to be addressed. It was decided to describe him as an independent researcher\, and this is more or less how Robert has viewed himself ever since. Robert teaches English as a foreign language\, but his interests and experience are wide-ranging. Born to British parents in Modena\, Italy\, he studied Classics at school\, English at Aberdeen University and General Linguistics and Comparative Philology at the University of Oxford. He has travelled and worked in various parts of Europe\, the Middle East\, the Far East\, Southeast Asia\, Australasia and the United States. In 2014\, he completed a Permaculture Design Course in Vang Vieng\, Laos\, and holds a second degree black belt in the art of aikido. He is indebted to many teachers in the fields of aikido and meditation\, especially Vipassana meditation\, and in 2018 completed a Mindfulness Teacher Training Course at the Mangalam Meditation Centre in Germany. He now lives with his beloved wife in Zürich\, Switzerland\, where he plans to embark on training as a Jungian Analyst at the International School for Analytical Psychologists.
URL:https://paricenter.com/event/hope-and-delusion/
LOCATION:Online
ATTACH;FMTTYPE=image/jpeg:https://paricenter.com/wp-content/uploads/2021/04/kristine-weilert-tLNRTxieD7k-unsplash-scaled-e1619201686453.jpg
END:VEVENT
END:VCALENDAR