BEGIN:VCALENDAR
VERSION:2.0
PRODID:-//The Pari Center - ECPv6.15.20//NONSGML v1.0//EN
CALSCALE:GREGORIAN
METHOD:PUBLISH
X-ORIGINAL-URL:https://paricenter.com
X-WR-CALDESC:Events for The Pari Center
REFRESH-INTERVAL;VALUE=DURATION:PT1H
X-Robots-Tag:noindex
X-PUBLISHED-TTL:PT1H
BEGIN:VTIMEZONE
TZID:Europe/Rome
BEGIN:DAYLIGHT
TZOFFSETFROM:+0100
TZOFFSETTO:+0200
TZNAME:CEST
DTSTART:20210328T010000
END:DAYLIGHT
BEGIN:STANDARD
TZOFFSETFROM:+0200
TZOFFSETTO:+0100
TZNAME:CET
DTSTART:20211031T010000
END:STANDARD
BEGIN:DAYLIGHT
TZOFFSETFROM:+0100
TZOFFSETTO:+0200
TZNAME:CEST
DTSTART:20220327T010000
END:DAYLIGHT
BEGIN:STANDARD
TZOFFSETFROM:+0200
TZOFFSETTO:+0100
TZNAME:CET
DTSTART:20221030T010000
END:STANDARD
BEGIN:DAYLIGHT
TZOFFSETFROM:+0100
TZOFFSETTO:+0200
TZNAME:CEST
DTSTART:20230326T010000
END:DAYLIGHT
BEGIN:STANDARD
TZOFFSETFROM:+0200
TZOFFSETTO:+0100
TZNAME:CET
DTSTART:20231029T010000
END:STANDARD
END:VTIMEZONE
BEGIN:VEVENT
DTSTART;TZID=Europe/Rome:20220507T175900
DTEND;TZID=Europe/Rome:20220529T200000
DTSTAMP:20260421T151941
CREATED:20240314T204820Z
LAST-MODIFIED:20240423T210227Z
UID:10000162-1651946340-1653854400@paricenter.com
SUMMARY:Love in the Time of Crisis
DESCRIPTION:Love in the Time of CrisisFrom Separation to Interbeing \n\n\n\nwith John Briggs\, Will Buckingham\, Jane Clark\, Vincent Colapietro\, Satish Kumar\, Ramona Rolle-Berg\, Renée Rolle-Whatley\, Rabbi Neal Rose and Mark Vernonand Special guest poet Richard Berengarten \n\n\n\nPari Center Online Series \n\n\n\nMay 7 – 8\, 14 – 15\, 21 – 22\, 28 – 29\, 20229:00 PDT | 12:00 EDT | 17:00 BST  |  18:00 CEST \n\n\n\n8 Two-hour sessions\, Saturdays and Sundays \n\n\n\nBlessed be the covenant of love between what is hidden and what is revealed.Leonard Cohen \n\n\n\nWe live in a challenging time of transition which promises both hope and peril.  How are we to navigate a course that will take us from a story of separation\, competition\, and distrust to a new narrative of inter-being\, cooperation\, and love? How do we begin to give up and move beyond an incoherent and too often destructive structure of consciousness and a world which seems rarely to see the mediating presence of what has been called ‘evolutionary love’? \n\n\n\nThis program approaches these questions and others from a wide variety of perspectives: \n\n\n\nOn our journey we explore the concept of ‘evolutionary love’ in the context of the metaphysics of Charles Sanders Peirce with Vincent Colapietro. We travel into and through the rich imagery of love in literature and culture with John Briggs. We enter energy and mind-body medicine with Renee Rolle-Whatley and Ramona Rolle-Berg\, each of whom holds a PhD in Mind Body Medicine\, as we explore parental love. With Mark Vernon we will address the need for a deeper awareness of love that becomes particularly acute in times of crisis\, though times of crisis also offer moments to understand love move fully. \n\n\n\nSatish Kumar brings us to ecology\, approached from a love which finds its expression in a reverence for nature—which he strongly feels should be at the heart of every political and social debate. Jane Clark and Mark Vernon take us with them in a journey which explores the meaning of divine love. \n\n\n\nIn this program\, we will approach love from multiple perspectives of how to go about restoring the power of love—the power of a positive mediating force\, to enliven\, re-enchant\, and re-invigorate our world. We seek pathways that restore reason as a guide to the expansion of knowledge and understanding\, and we see love as a guide\, bringing goodness and order to their application. From within the midst of present chaos\, we look to love in its varied dimensions to bring quiescence within\, and creativity and intelligence in its outer expression. \n\n\n\nWe are again fortunate to have poet\, Richard Berengarten\, as part of our series on the theme of love. Richard will be read short poems from several of his collections\, including The Blue Butterfly\,  Notness\, Changing \, and a new sequence of villanelles in honour of Tao Yuanming\, entitled The Wine Cup. Richard will briefly introduce himself and his work and each session will begin with his reading from one of these books. \n\n\n\n\n\n\n\nProgram of Event\n\n\n\nSaturday May 7Temporality and Tragedy: Irrevocable Loss and Redemptive Lovewith Vincent Colapietro \n\n\n\nSunday May 8Tales of Love and Narcissism in Classical Jewish Sourceswith Rabbi Neal Rose \n\n\n\nSaturday May 14Portrayals of Love in Literature and Culturewith John Briggs \n\n\n\nSunday May 15Power of Lovewith Satish Kumar \n\n\n\nSaturday May 21Parenting as a Journey towards Awakening: Exploring Self-growth through the Hidden Guidance of the Heartwith Ramona Rolle-Berg and Renée Rolle-Whatley \n\n\n\nSunday May 22Love In A Time of Crisiswith Mark Vernon \n\n\n\nSaturday May 28Love Across Traditionswith Jane Clark and Mark Vernon \n\n\n\nSunday May 29Strangers on the Threshold: Love\, Wisdom\, and the Task of Philosophywith Will Buckingham
URL:https://paricenter.com/event/love-in-the-time-of-crisis-2/
LOCATION:Online
ATTACH;FMTTYPE=image/jpeg:https://paricenter.com/wp-content/uploads/2022/03/Love-poster2-e1650967478591.jpg
END:VEVENT
BEGIN:VEVENT
DTSTART;TZID=Europe/Rome:20220514T180000
DTEND;TZID=Europe/Rome:20220514T200000
DTSTAMP:20260421T151941
CREATED:20220404T191731Z
LAST-MODIFIED:20240324T175643Z
UID:10000168-1652551200-1652558400@paricenter.com
SUMMARY:Portrayals of Love in Literature and Culture
DESCRIPTION:Buy the recording\n\n\nPortrayals of Love in Literature and Culture with John Briggs€10\,00\n\n\nShop now\n\n\n\n\n\n\n\nPortrayals of Love in Literature and Culture \n\n\n\nwith John Briggs \n\n\n\nSaturday May 14\, 20229:00 PDT | 12:00 EDT | 17:00 BST  |  18:00 CEST \n\n\n\n2-hour session \n\n\n\nThe session is live and you will be sent the RECORDING. \n\n\n\n‘Love makes the world go round\,’ according to a song from the Broadway musical Carnival. Certainly the theme of love stands out as a central force motivating poetry\, fiction\, film\, and popular culture. \n\n\n\nThis session will explore selected familiar works of literature and popular culture in order to consider what clues these they contain to the implicit meanings of love that haunt us. What secret does the song suggest when it tells us: \n\n\n\nLove makes the world go ‘roundLove makes the world go ‘roundSomebody soon will love youIf no one loves you now \n\n\n\nIn the 1960s people were advised to make love not war. Still\, why is it that war makes for the best romantic love stories? Do our literary and popular portrayals of love provide insights into the tangled thickets of love where narcissism\, domination\, betrayal\, disillusion and conflict accompany expressions of infinite tenderness and care? \n\n\n\nTypes of love portrayed in this sessionRomantic and Erotic LoveLove of Friends\, FamilyLove and the Innocence of ChildhoodLove of God and Country\, Cosmos\, Knowledge and Other AbstractionsLove of Life\, Love of Earth \n\n\n\nThe feelings of love expressed in literature from the Native American context will provide a contrast to the feelings and ideas of love for those of us raised in anthropocentric (human-centered) cultures. \n\n\n\nFred Rogers\, host of the public television children’s show Mr. Rogers Neighborhood articulated the vital importance of love to children\, as you can see in these two YouTube clips: \n\n\n\nhttps://www.youtube.com/watch?v=FtsLoA1nBDQ&list=TLPQMTQwMzIwMjJFAj-eQEew9A&index=3https://www.youtube.com/watch?v=EIG5rroOv5I \n\n\n\nScientists have shown that without love a child becomes psychologically damaged and may even die. But love and death are woven together\, so literature tells us. \n\n\n\nParticipants are urged to review several short YouTube clips from film versions of one of the most intense romantic love stories every written: Wuthering Heights by Emily Brontë. \n\n\n\nAn overview montage of the story https://www.youtube.com/watch?v=yqwS3614J7Q \n\n\n\nDramatic moments \n\n\n\nCathy reflects on love https://www.youtube.com/watch?v=VNmWXt-8J1U \n\n\n\nCathy remembering her childhood castle with Heathcliff https://www.youtube.com/watch?v=3gbCsNzr-L8 \n\n\n\nHeathcliff reacting to Cathy’s death https://www.youtube.com/watch?v=8nB84L4aIZo \n\n\n\n\nhttps://www.youtube.com/watch?v=ofLC0be13Ks\n\n\n\n\nHeathcliff reaching for the ghost of Cathy https://www.youtube.com/watch?v=ABx-JZPSM10 \n\n\n\n\n\n\n\nTo see the Full Love in a Time of Crisis Program\n\n\n\n\n\n\n\nJohn Briggs\, PhD\, taught for 25 years at Western Connecticut State University. He has taught aesthetics\, journalism\, and creative writing and served as co-chair of the English Department; he was one of the founders of the Department of Writing\, Linguistics and Creative Process and one of the principal developers of the MFA in Professional and Creative Writing. He is now Emeritus Distinguished Professor of Writing and Aesthetics at WCSU. Among his many publications are three books he co-authored with David Peat\, Looking Glass Universe (1984)\, Turbulent Mirror: An Illustrated Guide to Chaos Theory and the Science of Wholeness (1989)\, and Seven Life Lessons of Chaos (1999). He lives in the New England town of Granville\, Massachusetts.
URL:https://paricenter.com/event/images-of-love-in-literature-and-culture/
LOCATION:Online
ATTACH;FMTTYPE=image/jpeg:https://paricenter.com/wp-content/uploads/2022/04/2-e1650359788207.jpg
END:VEVENT
END:VCALENDAR