BEGIN:VCALENDAR
VERSION:2.0
PRODID:-//The Pari Center - ECPv6.15.20//NONSGML v1.0//EN
CALSCALE:GREGORIAN
METHOD:PUBLISH
X-ORIGINAL-URL:https://paricenter.com
X-WR-CALDESC:Events for The Pari Center
REFRESH-INTERVAL;VALUE=DURATION:PT1H
X-Robots-Tag:noindex
X-PUBLISHED-TTL:PT1H
BEGIN:VTIMEZONE
TZID:Europe/Rome
BEGIN:DAYLIGHT
TZOFFSETFROM:+0100
TZOFFSETTO:+0200
TZNAME:CEST
DTSTART:20230326T010000
END:DAYLIGHT
BEGIN:STANDARD
TZOFFSETFROM:+0200
TZOFFSETTO:+0100
TZNAME:CET
DTSTART:20231029T010000
END:STANDARD
BEGIN:DAYLIGHT
TZOFFSETFROM:+0100
TZOFFSETTO:+0200
TZNAME:CEST
DTSTART:20240331T010000
END:DAYLIGHT
BEGIN:STANDARD
TZOFFSETFROM:+0200
TZOFFSETTO:+0100
TZNAME:CET
DTSTART:20241027T010000
END:STANDARD
BEGIN:DAYLIGHT
TZOFFSETFROM:+0100
TZOFFSETTO:+0200
TZNAME:CEST
DTSTART:20250330T010000
END:DAYLIGHT
BEGIN:STANDARD
TZOFFSETFROM:+0200
TZOFFSETTO:+0100
TZNAME:CET
DTSTART:20251026T010000
END:STANDARD
END:VTIMEZONE
BEGIN:VEVENT
DTSTART;TZID=Europe/Rome:20240920T180000
DTEND;TZID=Europe/Rome:20240924T140000
DTSTAMP:20260425T171711
CREATED:20240917T130319Z
LAST-MODIFIED:20240917T130522Z
UID:10000357-1726855200-1727186400@paricenter.com
SUMMARY:Structuring Process in the Undivided Universe
DESCRIPTION:Structuring Process in the Undivided Universe: a series of talks and conversations with Basil Hiley \n\n\n\nSeptember\, 20 – 24\, 2024 \n\n\n\nwith Basil Hiley\, Hamish Todd\, Paavo Pylkkänen\, Jonathan Allday and Michael Wright \n\n\n\nLocation: Pari\, Italy \n\n\n\n\n\n\n\n\nQuantum Phoronomy; that is Quantum Non-mechanics. \n\n\n\nDavid Bohm writes in his 1951 book “Quantum Theory” (p. 167):-  “The entire universe must\, on a very accurate level\, be regarded as a single indivisible unit in which the separate parts appear as idealisations permissible only on a classical level of accuracy of description.”  The challenge then is to find an accurate mathematical way to describe this situation.  As Eddington points out in his 1936 book\, “Relativity Theory of Protons and Electrons”\,  “The quantum formalism tells us how an incompletely separated object can be represented as a probability distribution over completely separated states.”  I will explain how this removes the ‘measurement problem’ and replaces materialism with the more primitive organic notion of process where activity or ‘energy’\, rather than ‘matter’\, is taken as basic. \n\n\n\nThis approach provides a way to understand Bohm’s implicate/explicate order in which emphasis is given to the emergence of different geometries (or phoronomies\, a notion already used by Einstein in ‘Über den Äther\,  Schw. Nat. Gesel. Verh. 105 (1924) 85-93).  I want to motivate intuitively why it is necessary to change the whole system of order and measure assumed in Euclidean geometry.  In this way I want to emphasise the role of algebra in the mathematical description in this approach\, linking up with some more recent developments in symplectic\, conformal and nil geometries.
URL:https://paricenter.com/event/structuring-process-in-the-undivided-universe/
LOCATION:Pari\, Italy
ATTACH;FMTTYPE=image/jpeg:https://paricenter.com/wp-content/uploads/2024/09/WhatsApp-Image-2024-09-16-at-21.47.34.jpeg
END:VEVENT
END:VCALENDAR