BEGIN:VCALENDAR
VERSION:2.0
PRODID:-//The Pari Center - ECPv6.15.20//NONSGML v1.0//EN
CALSCALE:GREGORIAN
METHOD:PUBLISH
X-WR-CALNAME:The Pari Center
X-ORIGINAL-URL:https://paricenter.com
X-WR-CALDESC:Events for The Pari Center
REFRESH-INTERVAL;VALUE=DURATION:PT1H
X-Robots-Tag:noindex
X-PUBLISHED-TTL:PT1H
BEGIN:VTIMEZONE
TZID:Europe/Rome
BEGIN:DAYLIGHT
TZOFFSETFROM:+0100
TZOFFSETTO:+0200
TZNAME:CEST
DTSTART:20230326T010000
END:DAYLIGHT
BEGIN:STANDARD
TZOFFSETFROM:+0200
TZOFFSETTO:+0100
TZNAME:CET
DTSTART:20231029T010000
END:STANDARD
BEGIN:DAYLIGHT
TZOFFSETFROM:+0100
TZOFFSETTO:+0200
TZNAME:CEST
DTSTART:20240331T010000
END:DAYLIGHT
BEGIN:STANDARD
TZOFFSETFROM:+0200
TZOFFSETTO:+0100
TZNAME:CET
DTSTART:20241027T010000
END:STANDARD
BEGIN:DAYLIGHT
TZOFFSETFROM:+0100
TZOFFSETTO:+0200
TZNAME:CEST
DTSTART:20250330T010000
END:DAYLIGHT
BEGIN:STANDARD
TZOFFSETFROM:+0200
TZOFFSETTO:+0100
TZNAME:CET
DTSTART:20251026T010000
END:STANDARD
END:VTIMEZONE
BEGIN:VEVENT
DTSTART;TZID=Europe/Rome:20241130T175900
DTEND;TZID=Europe/Rome:20241215T193000
DTSTAMP:20260424T181853
CREATED:20241009T100611Z
LAST-MODIFIED:20241017T151546Z
UID:10000361-1732989540-1734291000@paricenter.com
SUMMARY:Beyond Jung 2024: Living Synchronicity
DESCRIPTION:with Richard Berengarten\, Jean Bolen\, Joe Cambray\, Suzanne Gieser\, Roderick Main\, Rick Tarnas.Curated and Chaired by Roderick Main. \n\n\n\nNovember 30 – December 15\, 20249am PST / 12pm EST / 5pm GMT / 6pm CET \n\n\n\n6 two-hour sessions every Saturday and Sunday  \n\n\n\nAll sessions are LIVE. All participants will receive the RECORDING. \n\n\n\n\n\n\n\nSix seasoned explorers of synchronicity share their insight into the topic\, including how synchronicity\, as an experience or as a principle\, plays a vital part in their professional work. \n\n\n\nThis is the inaugural set of talks in a new ‘Beyond Jung’ series hosted by the Pari Center\, honouring the seminal work and inspiration of the Swiss psychiatrist C. G. Jung. Our title\, ‘Living Synchronicity’\, refers to both the vital contemporary importance of synchronicity and the possibility of our living more synchronistically. Beginning with this topic seems especially apt in view of the seminal contribution to the study of synchronicity by the founder of the Pari Center\, the late David Peat. \n\n\n\nSynchronistic experiences—meaningful coincidences—are often described as profoundly significant both personally and sometimes also at a more than personal level. Meanwhile\, synchronicity as a principle—acausal connection through meaning—is often claimed to have radical implications for how we understand reality. Jung himself associated synchronicity with a unitary worldview\, and he developed the concept as a form of holistic epistemology to address what he saw as the perilous one-sidedness of modern experimental science when decoupled from the realms of meaning and value. \n\n\n\nIn this series of talks\, six seasoned explorers of the topic—from scientific\, scholarly\, psychotherapeutic\, divinatory\, and creative backgrounds—share some of their insights into the nature and importance of synchronicity and how it has played into their lives and professional work. \n\n\n\nSessions\n\n\n\n‘Everything Breathes Together’: Synchronicity and Its Implications\, Cosmological\, Psychological\, SpiritualWith Professor Rick TarnasSaturday 30 November \n\n\n\nSplitting the Mirror: A Shard of Synchronicity from a Historical and Personal PerspectiveWith Dr Suzanne GieserSunday 1 December \n\n\n\nThe Tao of Psychology: Synchronicity and the SelfWith Dr Jean Shinoda BolenSaturday December 7 \n\n\n\nSynchronicity and Jung’s Holistic EpistemologyWith Professor Roderick MainSunday December 8 \n\n\n\nAn Arc of SynchronicitiesWith Dr Joe CambraySaturday December 14 \n\n\n\nFour Shillings and Sixpence: Synchronicity and Poetry With Richard BerengartenSunday December 15
URL:https://paricenter.com/event/beyond-jung-2024-living-synchronicity/
ATTACH;FMTTYPE=image/jpeg:https://paricenter.com/wp-content/uploads/2024/10/Beyond-Jung-poster23_low.jpg
END:VEVENT
BEGIN:VEVENT
DTSTART;TZID=Europe/Rome:20241215T180000
DTEND;TZID=Europe/Rome:20241215T193000
DTSTAMP:20260424T181853
CREATED:20241009T124653Z
LAST-MODIFIED:20241130T153446Z
UID:10000367-1734285600-1734291000@paricenter.com
SUMMARY:Beyond Jung 2024 - Four Shillings and Sixpence: Synchronicity and Poetry
DESCRIPTION:Four Shillings and Sixpence: Synchronicity and Poetry \n\n\n\nwith Richard Berengarten \n\n\n\nSunday\, December 15\, 20249am PST / 12pm EST / 5pm GMT / 6pm CET \n\n\n\nBeyond Jung 2024\, Session 6 of 6 \n\n\n\nThis event is LIVE. All participants will receive the RECORDING. \n\n\n\n\n\n\n\nAs a working poet\, Richard Berengarten is interested\, both theoretically and practically\, in how Jung’s theory of synchronicity—with all its connections of specificity in time and place—is entangled in our ideas and experiences of inspiration\, imagination\, discovery and creativity. This means that he’s interested in how Jung’s theory is intervolved in both the sciences and the arts\, and as much in our day-to-day experiences and dream-life as in\, say\, religious and visionary experience. To explore his themes and ideas\, and to broach some questions arising from them\, he’ll read a small selection of his own poems connected with synchronicity\, which he’ll open for discussion. He aims\, too\, to broach some conjectures about the fractal geometries and symbolic configurations of both four (as in the Christian cross and the quaternity favoured by Jung) and six (as in the hexagonal forms that often occur in nature\, in the hexagrams of the I Ching\, and in the Star of Solomon)\, and the ways in which configurations such as these connect with synchronistic experience. \n\n\n\n\n\n\n\nRichard Berengarten (b. London\, 1943) is a poet who lives in Cambridge UK. He has also lived in Italy\, Greece\, the USA\, and former Yugoslavia. His poetry and poetics have been influenced by Jung for sixty years\, especially vis-à-vis synchronicity and the imagination. His long poem\, Changing (2016) is based on the I Ching and is a homage to this ancient classic. His ongoing series of chapbooks\, Imagems (2013\, 2019\, 2025)\, presents succinct 12-point statements on poetics\, and his monograph Keys to Transformation: Ceri Richards and Dylan Thomas (1980) engages with poetry and visual art in Jungian terms. He has published over 30 books and received many poetry awards\, and his work has been translated into more than 100 languages. He is a Bye-Fellow at Downing College\, Cambridge\, Academic Associate of Pembroke College\, Cambridge\, and Fellow of the English Association. 
URL:https://paricenter.com/event/beyond-jung-2024-four-shillings-and-sixpence-synchronicity-and-poetry/
ATTACH;FMTTYPE=image/jpeg:https://paricenter.com/wp-content/uploads/2024/10/Beyond-Jung-poster23_low.jpg
END:VEVENT
END:VCALENDAR