BEGIN:VCALENDAR
VERSION:2.0
PRODID:-//The Pari Center - ECPv6.15.20//NONSGML v1.0//EN
CALSCALE:GREGORIAN
METHOD:PUBLISH
X-ORIGINAL-URL:https://paricenter.com
X-WR-CALDESC:Events for The Pari Center
REFRESH-INTERVAL;VALUE=DURATION:PT1H
X-Robots-Tag:noindex
X-PUBLISHED-TTL:PT1H
BEGIN:VTIMEZONE
TZID:Europe/Rome
BEGIN:DAYLIGHT
TZOFFSETFROM:+0100
TZOFFSETTO:+0200
TZNAME:CEST
DTSTART:20240331T010000
END:DAYLIGHT
BEGIN:STANDARD
TZOFFSETFROM:+0200
TZOFFSETTO:+0100
TZNAME:CET
DTSTART:20241027T010000
END:STANDARD
BEGIN:DAYLIGHT
TZOFFSETFROM:+0100
TZOFFSETTO:+0200
TZNAME:CEST
DTSTART:20250330T010000
END:DAYLIGHT
BEGIN:STANDARD
TZOFFSETFROM:+0200
TZOFFSETTO:+0100
TZNAME:CET
DTSTART:20251026T010000
END:STANDARD
BEGIN:DAYLIGHT
TZOFFSETFROM:+0100
TZOFFSETTO:+0200
TZNAME:CEST
DTSTART:20260329T010000
END:DAYLIGHT
BEGIN:STANDARD
TZOFFSETFROM:+0200
TZOFFSETTO:+0100
TZNAME:CET
DTSTART:20261025T010000
END:STANDARD
END:VTIMEZONE
BEGIN:VEVENT
DTSTART;TZID=Europe/Rome:20250115T180000
DTEND;TZID=Europe/Rome:20250115T193000
DTSTAMP:20260424T131335
CREATED:20241211T205817Z
LAST-MODIFIED:20250130T121232Z
UID:10000386-1736964000-1736969400@paricenter.com
SUMMARY:The Future World - A Conversation with John Vervaeke
DESCRIPTION:Watch the recording\n\n\n\n\n\nhttps://www.youtube.com/watch?v=GxTFAeoUPfI\n\n\n\n\n\n\n\n\n\nDonate to the Pari Center\n\n\n\nWe could not exist without the generosity of our supporters\, sponsors and friends. Donate even a small amount\, to help support us financially and enable us to continue our work. \n\n\n\nBy clicking on the Donate button\, you will be taken to the payment screen. \n\n\n\n\n\n\n\n\n\n\n\nA Conversation between John Vervaeke and Àlex Gómez-Marín \n\n\n\nWednesday\, January 159:00am PST  | 12:00pm EST  | 5:00pm GMT  |  6:00pm CET  \n\n\n\nThis event is LIVE and FREE. All registered participants will receive the RECORDING. \n\n\n\n\n\n\n\n\n\n\n\n\nDr. John Vervaeke\, an award-winning professor of psychology\, cognitive science\, and Buddhist psychology at the University of Toronto\, brings a wealth of academic expertise to his courses. With a Ph.D. in Philosophy from the University of Toronto\, Dr. Vervaeke served as the former Director of Cognitive Science and holds the position of Associate Professor in the Department of Psychology. He has won and been nominated for several teaching awards and has published articles on relevance realization\, general intelligence\, mindfulness\, flow\, metaphor\, and wisdom. With expertise in both Eastern and Western philosophy\, Dr. Vervaeke guides learners through a transformative journey\, integrating ancient wisdom with modern scientific insights. Dr. Vervaeke’s courses are a captivating blend of theoretical knowledge and practical wisdom\, and his dynamic teaching style engages students in exploring the depths of the mind and its implications for personal growth and societal change\, illuminating the path to a deeper understanding of oneself and the world.
URL:https://paricenter.com/event/the-future-world-a-conversation-with-john-vervaeke/
ATTACH;FMTTYPE=image/jpeg:https://paricenter.com/wp-content/uploads/2024/12/poster-The-Future-World_low.jpg
END:VEVENT
END:VCALENDAR