BEGIN:VCALENDAR
VERSION:2.0
PRODID:-//The Pari Center - ECPv6.15.20//NONSGML v1.0//EN
CALSCALE:GREGORIAN
METHOD:PUBLISH
X-ORIGINAL-URL:https://paricenter.com
X-WR-CALDESC:Events for The Pari Center
REFRESH-INTERVAL;VALUE=DURATION:PT1H
X-Robots-Tag:noindex
X-PUBLISHED-TTL:PT1H
BEGIN:VTIMEZONE
TZID:Europe/Rome
BEGIN:DAYLIGHT
TZOFFSETFROM:+0100
TZOFFSETTO:+0200
TZNAME:CEST
DTSTART:20240331T010000
END:DAYLIGHT
BEGIN:STANDARD
TZOFFSETFROM:+0200
TZOFFSETTO:+0100
TZNAME:CET
DTSTART:20241027T010000
END:STANDARD
BEGIN:DAYLIGHT
TZOFFSETFROM:+0100
TZOFFSETTO:+0200
TZNAME:CEST
DTSTART:20250330T010000
END:DAYLIGHT
BEGIN:STANDARD
TZOFFSETFROM:+0200
TZOFFSETTO:+0100
TZNAME:CET
DTSTART:20251026T010000
END:STANDARD
BEGIN:DAYLIGHT
TZOFFSETFROM:+0100
TZOFFSETTO:+0200
TZNAME:CEST
DTSTART:20260329T010000
END:DAYLIGHT
BEGIN:STANDARD
TZOFFSETFROM:+0200
TZOFFSETTO:+0100
TZNAME:CET
DTSTART:20261025T010000
END:STANDARD
END:VTIMEZONE
BEGIN:VEVENT
DTSTART;TZID=Europe/Rome:20250116T180000
DTEND;TZID=Europe/Rome:20250116T200000
DTSTAMP:20260424T131345
CREATED:20250112T083033Z
LAST-MODIFIED:20250113T161550Z
UID:10000399-1737050400-1737057600@paricenter.com
SUMMARY:Spaced Out - Part 1
DESCRIPTION:Spaced Out \n\n\n\nA Two-Part Series on that Nature of Space\, Higher Dimensions and the Multiverse \n\n\n\nWith Jonathan Allday and Bernard Carr \n\n\n\nThursday January 16 and 23\, 2025 \n\n\n\n9:00am PST  | 12:00pm EST  | 5:00pm GMT  |  6:00pm CET \n\n\n\nA two-session series – each session will last two hours. \n\n\n\nAll registered participants will receive the RECORDING. \n\n\n\n\n\n\n\nPart 1\n\n\n\nThursday January 16\, 2025 \n\n\n\nA Gentle Introduction to the Physics of Space with Jonathan Allday \n\n\n\nThis talk is intended to be a grounding in the physicists’ conception of space. It will discuss the relativity of space and time\, how we distinguish between spatial and temporal dimensions\, space-time\, the curvature of space and what we mean by (various) forms of higher dimensions. \n\n\n\nPart 2\n\n\n\nThursday January 23\, 2025 \n\n\n\nSpaced Out: A Conversation Between Bernard Carr and Jonathan Allday \n\n\n\nThe conversation is designed to be a follow-up to their earlier discussion ‘It’s About Time.’ Themes will include space-time\, the curvature of space around a black hole\, higher dimensions in their various forms\, and the multiverse. We will also touch upon the anthropic principle\, cosmology and Bernard’s conception of higher dimensions and the mind. \n\n\n\n\n\n\n\n\n\n\n\n\n\nBernard Carr is Emeritus Professor of Mathematics and Astronomy at Queen Mary University of London. His professional area of research is cosmology and astrophysics and includes such topics as the early universe\, dark matter\, black holes and the anthropic principle. For his PhD he studied the first second of the Universe\, working under the supervision of Stephen Hawking at the Institute of Astronomy in Cambridge and the California Institute of Technology. He was elected to a Fellowship at Trinity College\, Cambridge\, in 1975 and moved to Queen Mary College in 1985. He has also held Visiting Professorships at Kyoto University\, Tokyo University\, the Fermi National Accelerator Laboratory and the Canadian Institute for Theoretical Astrophysics. He is the author of nearly three hundred scientific papers and the books Universe or Multiverse? and Quantum Black Holes. Beyond his professional field\, he is interested in the role of consciousness in physics and in an expanded paradigm which accommodates mind. He also has a long-standing interest in the relationship between science and religion. He was President of the Society for Psychical Research in 2000-2004 and is currently President of the Scientific and Medical Network. \n\n\n\n\n\n\n\n\n\n\n\n\n\nJonathan Allday was born in Liverpool in 1960. He did his first degree in Natural Sciences at Cambridge in 1982 and then returned to Liverpool to complete a PhD in elementary particle physics. As part of this\, he was fortunate to spend some time working at the European particle physics centre\, CERN\, in Geneva. \n\n\n\nAlso\, during that time he was co-opted onto a working party looking at the teaching of particle physics in schools and universities. The upshot was a new syllabus in particle physics and cosmology to be added to UK A-level (16-18) physics qualifications. The first questions were set in 1992. \n\n\n\nOn the back of the work on this syllabus\, Jonathan wrote his first book Quarks\, Leptons and the Big Bang\, which was published in 1998 and is about to enter its fourth edition. Jonathan has also collaborated on a couple of textbooks and written his own books on Quantum Theory\, General Relativity and the Apollo moon missions. \n\n\n\nProfessionally\, Jonathan worked as a physics teacher for 30 years in a variety of independent day and boarding schools in the UK. He was a head of physics\, a head of science and latterly an academic deputy head. He retired in 2020 and now runs a consulting company providing training and educational advice for schools. \n\n\n\nJonathan is married to Carolyn\, and they have three sons all of whom are far better at sport than he was. Carolyn was a GB swimmer\, which explains how come the boys can do sport. Jonathan and Carolyn live in a hamlet not far from Worcester in the UK. When not writing or consulting\, Jonathan enjoys watching cricket\, James Bond movies and Formula 1 races.
URL:https://paricenter.com/event/spaced-out-part-1/
ATTACH;FMTTYPE=image/jpeg:https://paricenter.com/wp-content/uploads/2025/01/spaced-out-poster_low.jpg
END:VEVENT
END:VCALENDAR