BEGIN:VCALENDAR
VERSION:2.0
PRODID:-//The Pari Center - ECPv6.15.20//NONSGML v1.0//EN
CALSCALE:GREGORIAN
METHOD:PUBLISH
X-WR-CALNAME:The Pari Center
X-ORIGINAL-URL:https://paricenter.com
X-WR-CALDESC:Events for The Pari Center
REFRESH-INTERVAL;VALUE=DURATION:PT1H
X-Robots-Tag:noindex
X-PUBLISHED-TTL:PT1H
BEGIN:VTIMEZONE
TZID:Europe/Rome
BEGIN:DAYLIGHT
TZOFFSETFROM:+0100
TZOFFSETTO:+0200
TZNAME:CEST
DTSTART:20240331T010000
END:DAYLIGHT
BEGIN:STANDARD
TZOFFSETFROM:+0200
TZOFFSETTO:+0100
TZNAME:CET
DTSTART:20241027T010000
END:STANDARD
BEGIN:DAYLIGHT
TZOFFSETFROM:+0100
TZOFFSETTO:+0200
TZNAME:CEST
DTSTART:20250330T010000
END:DAYLIGHT
BEGIN:STANDARD
TZOFFSETFROM:+0200
TZOFFSETTO:+0100
TZNAME:CET
DTSTART:20251026T010000
END:STANDARD
BEGIN:DAYLIGHT
TZOFFSETFROM:+0100
TZOFFSETTO:+0200
TZNAME:CEST
DTSTART:20260329T010000
END:DAYLIGHT
BEGIN:STANDARD
TZOFFSETFROM:+0200
TZOFFSETTO:+0100
TZNAME:CET
DTSTART:20261025T010000
END:STANDARD
END:VTIMEZONE
BEGIN:VEVENT
DTSTART;TZID=Europe/Rome:20250209T203000
DTEND;TZID=Europe/Rome:20250209T233000
DTSTAMP:20260424T162725
CREATED:20250202T162534Z
LAST-MODIFIED:20250316T170950Z
UID:10000401-1739133000-1739143800@paricenter.com
SUMMARY:PSI: Back to the Future
DESCRIPTION:Watch the recording\n\n\n\n\n\nhttps://www.youtube.com/watch?v=ktRJ7PKF9ws&t=371s\n\n\n\n\n\nDonate to the Pari Center\n\n\n\nWe could not exist without the generosity of our supporters\, sponsors and friends. Donate even a small amount\, to help support us financially and enable us to continue our work. \n\n\n\nBy clicking on the Donate button\, you will be taken to the payment screen. \n\n\n\n\n\n\n\n\n\n\n\nPSI: Back to the Future \n\n\n\nSunday February 9\, 202511:30am PST  | 2:30pm EST  | 7:30pm GMT  |  8:30pm CET (and ending about four hours later) \n\n\n\nCurated and chaired by: Alex Gomez-Marin \n\n\n\nWith: Damon Abraham\, David Acunzo\, Cedric Cannard\, Dani Caputi\, Adam Curry\, Maaneli Derakhshani\, Ed Kelly\, David Luke\, Jeffrey Mishlove\, Julia Mossbridge\, Roger Nelson\, Dean Radin\, Stephen Schwartz\, James Spottiswoode\, Mario Varvoglis\, Marina Weiler\, George Williams \n\n\n\nThis event is LIVE and FREE. All registered participants will receive the recording. \n\n\n\n\n\n\n\nThe scientific study of psychic (or PSI) phenomena –which includes extrasensory perception\, precognition\, synchronicity\, direct mind-to-mind communication\, or mind-matter interactions– has been going on for more than a century now. Its results are fascinating\, puzzling\, and often controversial. In this event some of the greatest active researchers in the field will present their own work while reflecting on where PSI has been\, where we think it is now\, and where we wish it to go. We hope to create an unprecedented audiovisual gathering for current and future generations to get perspective\, clarity\, and inspiration.
URL:https://paricenter.com/event/psi-back-to-the-future/
ATTACH;FMTTYPE=image/jpeg:https://paricenter.com/wp-content/uploads/2025/02/PSI-Back-to-the-Future.jpg
END:VEVENT
END:VCALENDAR