BEGIN:VCALENDAR
VERSION:2.0
PRODID:-//The Pari Center - ECPv6.15.20//NONSGML v1.0//EN
CALSCALE:GREGORIAN
METHOD:PUBLISH
X-ORIGINAL-URL:https://paricenter.com
X-WR-CALDESC:Events for The Pari Center
REFRESH-INTERVAL;VALUE=DURATION:PT1H
X-Robots-Tag:noindex
X-PUBLISHED-TTL:PT1H
BEGIN:VTIMEZONE
TZID:Europe/Rome
BEGIN:DAYLIGHT
TZOFFSETFROM:+0100
TZOFFSETTO:+0200
TZNAME:CEST
DTSTART:20240331T010000
END:DAYLIGHT
BEGIN:STANDARD
TZOFFSETFROM:+0200
TZOFFSETTO:+0100
TZNAME:CET
DTSTART:20241027T010000
END:STANDARD
BEGIN:DAYLIGHT
TZOFFSETFROM:+0100
TZOFFSETTO:+0200
TZNAME:CEST
DTSTART:20250330T010000
END:DAYLIGHT
BEGIN:STANDARD
TZOFFSETFROM:+0200
TZOFFSETTO:+0100
TZNAME:CET
DTSTART:20251026T010000
END:STANDARD
BEGIN:DAYLIGHT
TZOFFSETFROM:+0100
TZOFFSETTO:+0200
TZNAME:CEST
DTSTART:20260329T010000
END:DAYLIGHT
BEGIN:STANDARD
TZOFFSETFROM:+0200
TZOFFSETTO:+0100
TZNAME:CET
DTSTART:20261025T010000
END:STANDARD
END:VTIMEZONE
BEGIN:VEVENT
DTSTART;TZID=Europe/Rome:20250323T203000
DTEND;TZID=Europe/Rome:20250323T223000
DTSTAMP:20260423T015024
CREATED:20250207T080025Z
LAST-MODIFIED:20250402T090812Z
UID:10000403-1742761800-1742769000@paricenter.com
SUMMARY:Edge of Belief: Faith\, Imagination\, and Science
DESCRIPTION:Watch the recording\n\n\n\n\n\nhttps://www.youtube.com/watch?v=CCqy4UxmY88\n\n\n\n\n\nDonate to the Pari Center\n\n\n\nWe could not exist without the generosity of our supporters\, sponsors and friends. Donate even a small amount\, to help support us financially and enable us to continue our work. \n\n\n\nBy clicking on the Donate button\, you will be taken to the payment screen. \n\n\n\n\n\n\n\n\n\n\n\nEdge of Belief: Faith\, Imagination\, and Science \n\n\n\nSunday March 23\, 2025 \n\n\n\nStarting at 12:30pm PDT  | 3:30pm EDT  | 7:30pm GMT  |  8:30pm CET \n\n\n\nCurated and chaired by: Àlex Gómez-Marín \n\n\n\nWith Robert Duncan and Brett Robinson \n\n\n\nThis event is LIVE online and FREE. All registered participants will receive the recording. \n\n\n\n\n\n\n\nScience can explain many things about reality but the addition of theology\, literature\, and art deepens our understanding and makes for a much richer appreciation of life on this weird and wonderful planet. How can Religion respond to evolving scientific discoveries? How should the Church think about UFOs? What are the boundaries for Catholic belief? The McGrath Institute for Church Life is proud to present “Edge of Belief: UFOs\, Technology & The Catholic Imagination”\, a documentary short that explores the outer limits of belief. \n\n\n\n“The Edge of Belief” is a documentary film about the interplay of faith\, imagination and science. The film looks at the modern UFO phenomenon through the lens of the Catholic theological\, scientific and literary tradition. This impactful documentary gives viewers a holistic framework for thinking about the mysteries of the universe and dealing with the claims that we are not alone in it. “The Edge of Belief” features interviews with CS Lewis scholar and Oxford professor Michael Ward\, religious studies researcher and author of American Cosmic\, Diana Pasulka\, icon artist and host of “The Symbolic World\,” Jonathan Pageau\, Notre Dame theologian Christopher Baglow\, and Chair of Astronomy at Cornell\, Jonathan Lunine\, among others. \n\n\n\nLink to the film (31 minutes): https://www.youtube.com/watch?v=RA0ah6Xmqus \n\n\n\nSchedule: \n\n\n\n08:30pm CET – Introduction \n\n\n\n08:45pm CET – Live film watch \n\n\n\n09:15pm CET – Conversation between Robert\, Brett\, and Alex  \n\n\n\n10:00pm CET – Q&A from the audience \n\n\n\n10:30pm CET – End \n\n\n\n\n\n\n\n\nRobert Duncan\, a native of North Carolina\, is a filmmaker and communications professional who has spent over a decade producing documentaries and news videos on the Vatican and Catholic life in Rome. He has worked extensively as a journalist covering Vatican affairs and as a communications consultant for various non-profit religious organizations\, particularly in the areas of fundraising and strategic media. Robert graduated from NYU’s film program and has consulted for the U.S. State Department\, creating media for the U.S. embassies in Rome. He has lectured on communication strategy for Vatican employees and assisted with media projects for Pope Francis’ Laudato Si’. Robert lives near Rome with his family\, enjoying hiking and sailing.  \n\n\n\nBrett Robinson\, Executive Producer Brett Robinson serves as the Associate Director for Outreach and Associate Professor of the Practice at the McGrath Institute for Church Life. In his role\, he oversees outreach efforts for the institute while conducting research at the intersection of religion\, technology and culture. Brett studied marketing and English at the University of Notre Dame and received his Ph.D. in Mass Communication from the University of Georgia. He has taught media studies courses at Duquesne University\, the University of Georgia\, Saint Vincent College and Notre Dame. Brett is the author of Appletopia: Media Technology and the Religious Imagination of Steve Jobs and his essays and commentary on technology and culture have been featured in Wired Magazine\, CNN\, the LA Times and Catholic News Service. \n\n\n\nÀlex Gómez-Marín\, theoretical physicist turned neuroscientist studying the edges of consciousness in the real world. He is an associate professor at the Instituto de Neurociencias in Alicante\, Spain\, and director of the Pari Center in Tuscany\, Italy. 
URL:https://paricenter.com/event/edge-of-belief-faith-imagination-and-science/
ATTACH;FMTTYPE=image/png:https://paricenter.com/wp-content/uploads/2025/02/4.png
END:VEVENT
END:VCALENDAR