BEGIN:VCALENDAR
VERSION:2.0
PRODID:-//The Pari Center - ECPv6.15.20//NONSGML v1.0//EN
CALSCALE:GREGORIAN
METHOD:PUBLISH
X-WR-CALNAME:The Pari Center
X-ORIGINAL-URL:https://paricenter.com
X-WR-CALDESC:Events for The Pari Center
REFRESH-INTERVAL;VALUE=DURATION:PT1H
X-Robots-Tag:noindex
X-PUBLISHED-TTL:PT1H
BEGIN:VTIMEZONE
TZID:Europe/Rome
BEGIN:DAYLIGHT
TZOFFSETFROM:+0100
TZOFFSETTO:+0200
TZNAME:CEST
DTSTART:20240331T010000
END:DAYLIGHT
BEGIN:STANDARD
TZOFFSETFROM:+0200
TZOFFSETTO:+0100
TZNAME:CET
DTSTART:20241027T010000
END:STANDARD
BEGIN:DAYLIGHT
TZOFFSETFROM:+0100
TZOFFSETTO:+0200
TZNAME:CEST
DTSTART:20250330T010000
END:DAYLIGHT
BEGIN:STANDARD
TZOFFSETFROM:+0200
TZOFFSETTO:+0100
TZNAME:CET
DTSTART:20251026T010000
END:STANDARD
BEGIN:DAYLIGHT
TZOFFSETFROM:+0100
TZOFFSETTO:+0200
TZNAME:CEST
DTSTART:20260329T010000
END:DAYLIGHT
BEGIN:STANDARD
TZOFFSETFROM:+0200
TZOFFSETTO:+0100
TZNAME:CET
DTSTART:20261025T010000
END:STANDARD
END:VTIMEZONE
BEGIN:VEVENT
DTSTART;TZID=Europe/Rome:20250802T175900
DTEND;TZID=Europe/Rome:20250824T203000
DTSTAMP:20260422T122555
CREATED:20250724T132852Z
LAST-MODIFIED:20250726T101119Z
UID:10000428-1754157540-1756067400@paricenter.com
SUMMARY:Beyond Bohm 2025\, Part 2
DESCRIPTION:August 2 – 24\, 20258 two-hour sessions \n\n\n\n9:00am PDT | 12:00pm EDT | 5:00pm BST  |  6:00pm CEST \n\n\n\nAll sessions are live\, and include Q & A\, and all participants will receive the RECORDING.Each session: Full Price €15\, Member’s Discount €13.50Series tickets available. \n\n\n\n\n\n\n\nBeyond Bohm 2025\, Part 2\n\n\n\nFollowing an illuminating introduction to Bohm’s revolutionary physics\, we embark on an exploration of potentiality and its intricate relationship with actuality\, drawing upon the insights of both Bohm and Charles Burton Martin; we will delve deeply into the terrain of panpsychism\, examining consciousness not as a mere biological phenomenon confined to humans and animals\, but as a fundamental architectural principle woven into the very fabric of physical reality; we investigate whether Bohmian quantum theory might inspire new forms of psycho-physical laws; we will examine the conception of ‘strict monism’ and its relation to Bohm’s ideas of undivided wholeness; we will illuminate Bohm’s distinctive philosophy of science as manifested in his causal interpretation of quantum theory; we will consider the implications of quantum materials on humanity’s evolutionary trajectory\, examining how these emerging technologies may fundamentally reshape our civilizational future; and we provide an introduction to a new worldview: the Dynamic Universe—a proposal that provides a new way of understanding relativistic phenomena. \n\n\n\nEvery session will have openings for question / answer and discussion with presenters. \n\n\n\n\n\n\n\nProgram of Event\n\n\n\nSaturday August 2Introduction to Bohm’s PhysicsJonathan AlldaySunday August 3Potentialities in Nature and the Nature of Potentialities: David Bohm’s 1951Quantum Theory and C. B. Martin’s Dispositionalist MetaphysicsAlex Carruth \n\n\n\nSaturday August 9The Impact of (Quantum) Materials on the Development of Humanity and of Shaping our FutureSaskia FischerSunday August 10On PanpsychismSanttu Heikkinen \n\n\n\nSaturday August 16The Dynamic Universe: A New Holistic World ViewTuomo Suntola \n\n\n\nSunday August 17 Consciousness\, Reduction and Quantum Psycho-Physical Laws  Paavo Pylkkänen \n\n\n\nSaturday August 23Bohm’s Philosophy of Science in his Causal Interpretation of Quantum MechanicsMarja-Liisa Kakkuri-Knuuttila \n\n\n\nSunday August 24 Not Even One  William Seager \n\n\n\n\n\n\n\nGeneral information\n\n\n\nAll sessions will last for approximately 2 hours\, and will be held over zoom.us. The session structure may vary from speaker to speaker\, but in general participants will have the opportunity to ask questions of the presenter and in some cases there will be breakaway discussion groups. 
URL:https://paricenter.com/event/beyond-bohm-2025-part-2/
ATTACH;FMTTYPE=image/webp:https://paricenter.com/wp-content/uploads/2025/07/BBohm-2025-2-poster-1.webp
END:VEVENT
BEGIN:VEVENT
DTSTART;TZID=Europe/Rome:20250816T180000
DTEND;TZID=Europe/Rome:20250816T203000
DTSTAMP:20260422T122555
CREATED:20250723T123323Z
LAST-MODIFIED:20250724T130046Z
UID:10000424-1755367200-1755376200@paricenter.com
SUMMARY:Beyond Bohm 2025\, Part 2 -The Dynamic Universe: a New Holistic World View
DESCRIPTION:The Dynamic Universe: a New Holistic World View \n\n\n\nwith Tuomo Suntola \n\n\n\nSaturday August 169:00am PDT  | 12:00pm EDT  | 5:00pm BST  |  6:00pm CEST 2-hour session. \n\n\n\nThe session is live and you will be sent the RECORDING. \n\n\n\n\n\n\n\nThe Dynamic Universe (DU) offers an approach to understanding and predicting the natural world by describing three-dimensional space as the ‘surface’ of a 4-dimensional ball (which latter is called 3-sphere). This model provides a dynamic solution to the cosmological development of space and demonstrates that the relativity of observations stems from the overall energy balance in the system. Unlike the kinematics/metrics-based solutions of the theory of relativity\, the dynamics-based approach of DU allows the use of time and distance as universal coordinate quantities\, essential for human comprehension. \n\n\n\nDU’s foundation lies in the conservation law of energy within 3-sphere-space\, where the sum of the energies of motion and gravitation is zero. Analogous to a spherical pendulum\, mass in space gains its rest energy as the energy of motion against the release of gravitational energy during the contraction phase and returns this energy during the ongoing expansion phase. This presentation elucidates how the Dynamic Universe model simplifies current theoretical structures\, aims to align with quantum mechanics\, and provides a path toward a coherent and comprehensible scientific worldview without compromising the accuracy of predictions. \n\n\n\n\n\n\n\nTuomo Suntola\, PhD in Electron Physics (1971)\, has had a far-reaching academic and industrial career\, ranging from pioneering theoretical work to successful industrial applications. He is the father of the Atomic Layer Deposition (ALD) technology\, an enabling technology for the production of nanoscale semiconductor devices. Alongside his industrial research\, he sought a holistic view of the physical reality — which crystalized in the mid-1990s into the Dynamic Universe approach. This allows the universe to be studied as a dynamic energy system\, with the energies of gravitation and motion in balance.
URL:https://paricenter.com/event/beyond-bohm-2025-part-2-the-dynamic-universe-a-new-holistic-world-view/
ATTACH;FMTTYPE=image/webp:https://paricenter.com/wp-content/uploads/2025/07/BBohm-2025-2-poster-1.webp
END:VEVENT
END:VCALENDAR