BEGIN:VCALENDAR
VERSION:2.0
PRODID:-//The Pari Center - ECPv6.15.20//NONSGML v1.0//EN
CALSCALE:GREGORIAN
METHOD:PUBLISH
X-ORIGINAL-URL:https://paricenter.com
X-WR-CALDESC:Events for The Pari Center
REFRESH-INTERVAL;VALUE=DURATION:PT1H
X-Robots-Tag:noindex
X-PUBLISHED-TTL:PT1H
BEGIN:VTIMEZONE
TZID:Europe/Rome
BEGIN:DAYLIGHT
TZOFFSETFROM:+0100
TZOFFSETTO:+0200
TZNAME:CEST
DTSTART:20230326T010000
END:DAYLIGHT
BEGIN:STANDARD
TZOFFSETFROM:+0200
TZOFFSETTO:+0100
TZNAME:CET
DTSTART:20231029T010000
END:STANDARD
BEGIN:DAYLIGHT
TZOFFSETFROM:+0100
TZOFFSETTO:+0200
TZNAME:CEST
DTSTART:20240331T010000
END:DAYLIGHT
BEGIN:STANDARD
TZOFFSETFROM:+0200
TZOFFSETTO:+0100
TZNAME:CET
DTSTART:20241027T010000
END:STANDARD
BEGIN:DAYLIGHT
TZOFFSETFROM:+0100
TZOFFSETTO:+0200
TZNAME:CEST
DTSTART:20250330T010000
END:DAYLIGHT
BEGIN:STANDARD
TZOFFSETFROM:+0200
TZOFFSETTO:+0100
TZNAME:CET
DTSTART:20251026T010000
END:STANDARD
END:VTIMEZONE
BEGIN:VEVENT
DTSTART;TZID=Europe/Rome:20240503T180000
DTEND;TZID=Europe/Rome:20240503T193000
DTSTAMP:20260422T065707
CREATED:20240311T134303Z
LAST-MODIFIED:20240517T132614Z
UID:10000324-1714759200-1714764600@paricenter.com
SUMMARY:Book-A-Month Club - The Anomaly
DESCRIPTION:Watch the recording\n\n\n\n\n\nhttps://www.youtube.com/watch?v=Sf1Ylk6SXQA\n\n\n\n\n\n\nThe Anomalyby Hervé Le Tellier \n\n\n\nHosts: Beverley Zabriskie \n\n\n\nFriday May 3\, 20249:00am PST  | 12:00pm EST  | 5:00pm GMT  |  6:00pm CET  \n\n\n\nThis event is LIVE and FREE. All registered participants will receive the RECORDING. \n\n\n\nAn informal monthly get-together to discuss books of significance for the Pari Center community. \n\n\n\nThe Anomaly by Hervé Le Tellier\, winner of the 2020 Goncourt Prize and now an international phenomenon\, is a novel blends crime\, fantasy\, sci-fi\, and thriller as it plumbs the mysteries surrounding a Paris-New York flight.Who would we be if we had made different choices? Told that secret\, left that relationship\, written that book? We all wonder—the passengers of Air France 006 will find out. About to start their descent to JFK\, they hit a shockingly violent patch of turbulence\, emerging on the other side to a reality both perfectly familiar and utterly strange. As it charts the fallout of this logic-defying event\, The Anomalytakes us on a journey from Lagos and Mumbai to the White House and a top-secret hangar. \n\n\n\nEach month we will meet with a guest presenter/moderator to discuss a book of their choice that probes important aspects of our focus—Physics and Philosophy\, the work of David Bohm\, Indigenous Ways of Knowing\, Jungian Concepts\, Gentle Action\, Creativity\, the Arts\, Ethics\, Community\, the Sacred. \n\n\n\nBeverley Zabriskie is a Jungian Analyst in New York City\, a founding faculty member and former President of the Jungian Psychoanalytic Association (JPA)\, where she teaches Jungian theory and practice\, theories of emotion\, psychological interpretation of Egyptian Mythology\, and alchemical imagery. She is past Vice-President of the Philemon Foundation which produced The Red Book\, and other unpublished volumes by C.G. Jung. She is an associate editor of the Journal of Analytic Psychology\, and on The Helix Center for Interdisciplinary Investigation Executive Committee. Her publications include: ‘The Spectrums of Emotion\,’ in Volume 1\, Research in Analytical Psychology: Applications from Scientific\, Historical and Cross-Cultural Research (2018); ‘Time and Tao in Synchronicity’ in The Pauli-Jung Conjecture and Its Impact Today (2014); ‘Synchronicities: Riddles of Time and Emotion’ (2012); ‘Synchronicity and the I Ching: Jung\, Pauli\, and the Chinese Woman’ (2005); Imagination as Laboratory\,(2004); ‘A Meeting of Rare Minds.’ Preface to Atom and Archetype\, The Pauli-Jung Correspondence\, (2001).
URL:https://paricenter.com/event/book-a-month-club-the-anomaly/
LOCATION:Online
ATTACH;FMTTYPE=image/jpeg:https://paricenter.com/wp-content/uploads/2023/12/poster-Book-a-month-e1701881893664.jpg
END:VEVENT
BEGIN:VEVENT
DTSTART;TZID=Europe/Rome:20240525T180000
DTEND;TZID=Europe/Rome:20240601T190000
DTSTAMP:20260422T065707
CREATED:20240322T135606Z
LAST-MODIFIED:20240329T122051Z
UID:10000327-1716660000-1717268400@paricenter.com
SUMMARY:Benign Anarchy!
DESCRIPTION:Benign Anarchy! \n\n\n\nA gathering of members of AA and NA but open to anyone interested in Dialogue..as developed by David Bohm and also Martin Bubers “I-Thou“ \n\n\n\nDates: May 25 – June 1\, 2024 \n\n\n\nOrganizers: Tom C.\,  Rose R.\,  Jim C. \n\n\n\nLocation: Pari\, Italy \n\n\n\nPrice: 890 euros for single occupancy730 euros for shared occupancy (two-bedroom apartment\, shared bathroom)645 euros each for a couple sharing a room  \n\n\n\nwhich includes: \n\n\n\n\na 7-night stay in private accommodation;\n\n\n\nbreakfast\, lunch and dinner at the local restaurant featuring locally sourced produce and traditional dishes;\n\n\n\nprogrammed activities and materials;\n\n\n\nrefreshments provided at mid-morning and mid-afternoon coffee breaks.\n\n\n\n\nEvent: The event starts on Saturday May 25 at 19:00 with a welcome dinner and ends on Saturday June 1 after lunch. \n\n\n\nRegistration and Information: Please contact Tom tcallagyp@gmail.com or Eleanor eleanor@paricenter.com or Chiara chiara@paricenter.com \n\n\n\n\n\n\n\nAbout the Event: \n\n\n\nThe second gathering of members of AA (Alcoholics Anonymous) and NA (Narcotics Anonymous) will be held in Pari\, May 25 – June 1. The week’s structure is freeform and anarchistic! There will be closed and open meetings\, visits to the hot springs\, long hours at the bar/restaurant talking\, and wonderful food. There will also be visits to Florence and Siena for those who wish to go further afield. \n\n\n\nIt is not necessary to be a member of either fellowship in order to attend. And we hope that this year\, the group will include a few friends and partners. This is also an invitation to anyone interested in Dialogue—note that the 12 Steps and the 12 Traditions for nearly 100 years ‘contain all the wisdom of all the ages.’  \n\n\n\nIt is hoped to have discussion groups/workshops on the history of AA and NA; the influence of Carl Jung on Bill W; a talk on Bill W. and Jimmy K. by Irene C.; the deep wisdom of the 12 Steps and the profundity of the 12 traditions. \n\n\n\nIt is hoped the golden thread running through our week will be‘The Language of the Heart.’ \n\n\n\nAll of the above in magical Pari—the creation of David Peat and Maureen Doolan. Here we will have wonderful Italian food—and—talk\, talk\, talk in the outdoor café\, with music and dancing in the square\, soaking in the sulphur springs\, and joy and laughter! \n\n\n\nParticipating in an event at the Pari Center means not only attending meetings but living for a week in a medieval village\, mingling with the local population\, eating local dishes\, appreciating the beauty of the surrounding countryside\, and participating in a very gentle way of life far from the frenzy of work and city living. David Peat compared Pari to an alchemical vessel—a place where transformation can come about—as well as an opportunity to pause for a moment and re-assess one’s life. \n\n\n\nAdditional information about the Pari Center – pdf
URL:https://paricenter.com/event/benign-anarchy-2/
LOCATION:Pari\, Italy
ATTACH;FMTTYPE=image/jpeg:https://paricenter.com/wp-content/uploads/2024/03/Benign-Anarchy.jpg
END:VEVENT
BEGIN:VEVENT
DTSTART;TZID=Europe/Rome:20240530T180000
DTEND;TZID=Europe/Rome:20240530T193000
DTSTAMP:20260422T065707
CREATED:20240205T155837Z
LAST-MODIFIED:20240623T075121Z
UID:10000321-1717092000-1717097400@paricenter.com
SUMMARY:The Future Mind – A Conversation with Ida Cuéllar
DESCRIPTION:Watch the recording\n\n\n\n\n\nhttps://www.youtube.com/watch?v=h-WObKDgxXc\n\n\n\n\n\n\nA Conversation between Ida Cuéllar and Àlex Gómez-Marín \n\n\n\nThursday May 309:00am PDT  | 12:00pm EDT  | 5:00pm BST  |  6:00pm CEST  \n\n\n\nThis event is LIVE and FREE. All registered participants will receive the RECORDING. \n\n\n\n\n\n\n\nIda Cuéllar is a filmmaker and musician living between Barcelona and Mexico City. He has worked all over the world as a director and screenwriter. His work in advertising has won numerous awards at Cannes\, San Sebastián FIAP and the Ojo de Iberoamérica\, among others. Ida has directed multiple short films\, such as La muerte de Otilia Ruiz (2011) and the experimental fashion film Phasmata (2014)\, selected for numerous international festivals. Among other relevant commissions\, he directed the pilot episode of the series Magnum Opus (2016)\, with James Cosmos\, Arly Jover\, Timothy Gibbs\, Jamie Anderson and Sam Douglas. In his works\, Ida explores the nature of imagination and consciousness. Hence one of his latest and greatly acclaimed works\, on which he has been researching for a decade\, is The Secret of Dr. Grinberg (2020). \n\n\n\n\n\n\n\n\nÀlex Gómez-Marín is a Spanish physicist turned neuroscientist. He holds a PhD in theoretical physics and a Masters in biophysics from the University of Barcelona. He was a research fellow at the EMBL-CRG Centre for Genomic Regulation and at the Champalimaud Center for the Unknown in Lisbon. His research spans from the origins of the arrow of time to the neurobiology of action-perception across species\, from flies and worms to mice and humans. Since 2016 he has been the head of the Behavior of Organisms Laboratory at the Instituto de Neurociencias in Alicante\, where he is an Associate Professor of the Spanish Research Council. Combining computational biology and continental philosophy\, his current research concentrates on consciousness in the real world.
URL:https://paricenter.com/event/the-future-mind-a-conversation-with-federico-faggin/
LOCATION:Online
ATTACH;FMTTYPE=image/jpeg:https://paricenter.com/wp-content/uploads/2023/12/The-Future-Mind2-e1702040240578.jpg
END:VEVENT
END:VCALENDAR