BEGIN:VCALENDAR
VERSION:2.0
PRODID:-//The Pari Center - ECPv6.15.20//NONSGML v1.0//EN
CALSCALE:GREGORIAN
METHOD:PUBLISH
X-ORIGINAL-URL:https://paricenter.com
X-WR-CALDESC:Events for The Pari Center
REFRESH-INTERVAL;VALUE=DURATION:PT1H
X-Robots-Tag:noindex
X-PUBLISHED-TTL:PT1H
BEGIN:VTIMEZONE
TZID:Europe/Rome
BEGIN:DAYLIGHT
TZOFFSETFROM:+0100
TZOFFSETTO:+0200
TZNAME:CEST
DTSTART:20240331T010000
END:DAYLIGHT
BEGIN:STANDARD
TZOFFSETFROM:+0200
TZOFFSETTO:+0100
TZNAME:CET
DTSTART:20241027T010000
END:STANDARD
BEGIN:DAYLIGHT
TZOFFSETFROM:+0100
TZOFFSETTO:+0200
TZNAME:CEST
DTSTART:20250330T010000
END:DAYLIGHT
BEGIN:STANDARD
TZOFFSETFROM:+0200
TZOFFSETTO:+0100
TZNAME:CET
DTSTART:20251026T010000
END:STANDARD
BEGIN:DAYLIGHT
TZOFFSETFROM:+0100
TZOFFSETTO:+0200
TZNAME:CEST
DTSTART:20260329T010000
END:DAYLIGHT
BEGIN:STANDARD
TZOFFSETFROM:+0200
TZOFFSETTO:+0100
TZNAME:CET
DTSTART:20261025T010000
END:STANDARD
END:VTIMEZONE
BEGIN:VEVENT
DTSTART;TZID=Europe/Rome:20250411T180000
DTEND;TZID=Europe/Rome:20250411T193000
DTSTAMP:20260421T041855
CREATED:20241230T104739Z
LAST-MODIFIED:20250416T152926Z
UID:10000395-1744394400-1744399800@paricenter.com
SUMMARY:The Future World - A conversation with Jeffrey Mishlove
DESCRIPTION:Watch the recording\n\n\n\n\n\nhttps://youtu.be/gtFdA6vh_QI?si=zUaCZ96DVKx71ZQ0\n\n\n\n\n\nDonate to the Pari Center\n\n\n\nWe could not exist without the generosity of our supporters\, sponsors and friends. Donate even a small amount\, to help support us financially and enable us to continue our work. \n\n\n\nBy clicking on the Donate button\, you will be taken to the payment screen. \n\n\n\n\n\n\n\n\n\n\n\nA Conversation between Jeffrey Mishlove and Àlex Gómez-Marín \n\n\n\nFriday April 119:00am PDT  | 12:00pm EDT  | 5:00pm BST  |  6:00pm CEST  \n\n\n\nThis event is LIVE and FREE. All registered participants will receive the RECORDING. \n\n\n\n\n\n\n\n\n\n\n\n\nHost and producer of the New Thinking Allowed channel on YouTube\, Jeffrey Mishlove\, PhD\, is also author of The Roots of Consciousness\, Psi Development Systems\, and The PK Man. He is the recipient of a doctorate in “Parapsychology” from the University of California\, Berkeley. He is the Grand Prize winner of the Bigelow Institute essay competition regarding postmortem survival of human consciousness. He currently serves as Co-Director of Parapsychology Education at the California Institute for Human Science.
URL:https://paricenter.com/event/the-future-world-a-conversation-with-jeffrey-mishlove/
ATTACH;FMTTYPE=image/jpeg:https://paricenter.com/wp-content/uploads/2024/12/poster-The-Future-World_low.jpg
END:VEVENT
BEGIN:VEVENT
DTSTART;TZID=Europe/Rome:20250413T203000
DTEND;TZID=Europe/Rome:20250413T233000
DTSTAMP:20260421T041855
CREATED:20250331T090827Z
LAST-MODIFIED:20250416T120119Z
UID:10000412-1744576200-1744587000@paricenter.com
SUMMARY:SURVIVAL: Re-Appraising the Evidence for Life After Death
DESCRIPTION:Watch the recording\n\n\n\n\n\nhttps://youtu.be/UrzcZfp-mV8?si=xAijmeVaHLNJDoWb\n\n\n\n\n\nDonate to the Pari Center\n\n\n\nWe could not exist without the generosity of our supporters\, sponsors and friends. Donate even a small amount\, to help support us financially and enable us to continue our work. \n\n\n\nBy clicking on the Donate button\, you will be taken to the payment screen. \n\n\n\n\n\n\n\n\n\n\n\nSURVIVAL: Re-Appraising the Evidence for Life After Death \n\n\n\nSunday April 13\, 2025 \n\n\n\n11:30am PDT\, 2:30pm EDT\, 7:30pm BST\, 8:30pm CEST (and ending about four hours later) \n\n\n\nWith: Alejandro Agudo\, Eben Alexander\, John Ballard\, Stafford Betty\, Bernard Carr\, Jeff Dunne\, Bruce Greyson\, Stanley Krippner\, Jeffrey Long\, David Lorimer\, Janice Miner Holden\, Jeffrey Mishlove\, Alexander Moreira-Almeida\, Leo Ruickbie\, Gary Schwartz\, Steve Taylor\, Stephan Schwartz\, Pim Van Lommel\, Helane Wahbeh\, Marjorie Woollacott \n\n\n\nIn memoriam: Peter Fenwick (1935-2024)\, Charles Tart (1937-2025)\, and Allan Leslie Combs (1942-2025) \n\n\n\nThis event is LIVE and FREE. All registered participants will receive the recording. \n\n\n\n\n\n\n\n\nA Rigorous Open-Minded Exploration \n\n\n\nUnderstanding whether consciousness continues after death is one of the most profound scientific and philosophical questions of our time. A rigorous\, evidence-based\, but also open-minded\, exploratory\, approach to this mystery has the potential to revolutionize our understanding of human identity\, the nature of consciousness\, and the boundaries of life itself. What\, if anything\, survives bodily death? In what form\, and for how long? These are questions that demand a trans-disciplinary investigation\, not just for their scientific implications but for their profound impact on culture\, ethics\, and human experience. SURVIVAL: Re-Appraising the Evidence for Life After Death brings together world-renowned experts to explore the latest research\, theories\, and firsthand accounts that challenge conventional assumptions. This online event is an essential opportunity to engage with cutting-edge insights into what might lie beyond the final frontier. \n\n\n\nA Bold New Conference Format\n\n\n\nWe are pioneering a dynamic\, high-impact online conference format via Zoom that maximizes efficiency and engagement. These live-recorded events feature a series of fast-paced\, 15-minute “science nuggets”—concise\, content-rich presentations from leading researchers\, with or without slides\, without lengthy introductions or Q&A. This streamlined approach keeps the momentum strong\, allowing us to cover in a few hours what a traditional in-person conference might take a week to accomplish. The result? A free\, to-the-point\, and comprehensive snapshot of the latest advancements in our field\, offering a pluralistic advanced testament to where we stand—and where we’re headed.
URL:https://paricenter.com/event/survival-re-appraising-the-evidence-for-life-after-death/
ATTACH;FMTTYPE=image/png:https://paricenter.com/wp-content/uploads/2025/03/SURVIVAL-Re-Appraising-the-Evidence-for-Life-After-Death.png
END:VEVENT
BEGIN:VEVENT
DTSTART;TZID=Europe/Rome:20250414T180000
DTEND;TZID=Europe/Rome:20250414T193000
DTSTAMP:20260421T041855
CREATED:20250310T125651Z
LAST-MODIFIED:20250416T151458Z
UID:10000411-1744653600-1744659000@paricenter.com
SUMMARY:Martin Buber’s I and Thou
DESCRIPTION:Watch the recording\n\n\n\n\n\nhttps://youtu.be/WDObxvA5xvg?si=pw8AIiDYK3ecVgdf\n\n\n\n\n\nDonate to the Pari Center\n\n\n\nWe could not exist without the generosity of our supporters\, sponsors and friends. Donate even a small amount\, to help support us financially and enable us to continue our work. \n\n\n\nBy clicking on the Donate button\, you will be taken to the payment screen. \n\n\n\n\n\n\n\n\n\n\n\nMartin Buber’s I and Thou \n\n\n\nHost: Nicholas Colloff \n\n\n\nMonday\, April 14\, 20259:00am PDT  | 12:00pm EDT  | 5:00pm BST  |  6:00pm CEST  \n\n\n\nThis event is LIVE and FREE. All registered participants will receive the RECORDING. \n\n\n\nAn informal monthly get-together to discuss books of significance for the Pari Center community. \n\n\n\n\n\n\n\nMartin Buber wrote\, ‘There is something that can only be found in one place. It is a great treasure\, which may e called the fulfilment of existence. The place where this treasure can be found is the place on which one stands.’  HIs first attempt to lay out a pathway to this fulfilment was in his seminal book\, I and Thou\, written in six weeks under an intense sense of inspiration\, and which he would spend the next forty years developing into the practice of living dialogue\, revealing that ‘all real living is meeting.’ But what does it mean to be truly present in the world\, engaged in relationships of wholeness and meaning? How does this relate to the equal imperative to know about the world and to use it to achieve our specific purposes? And what might either have to do with God or ultimate reality?  \n\n\n\nFor those familiar with the work of Ian McGilchrist\, we could frame this as how might my Master and my Emissary achieve a more harmonious relationship in the light of a deeper unity waiting to address me\, now\, just where I am\, standing in a world that waits to greet me?  I have now been reading Buber for forty years—and whether it is mastering my impatience in the queue at the Sainsbury checkout\, answering a colleague’s question openly and honestly\, making a decision with hoped for love and justice or thinking about the nature of God\, I found that Buber is part of the weft on which my thinking and acting has been woven. I hope to share something of his life\, the book’s meanings and why they might matter deeply. \n\n\n\n\n\n\n\n\n\n\n\n\nNICHOLAS COLLOFF\, when not posting art on Facebook or walking through the woods\, is the Director of the Argidius Foundation\, a Swiss family foundation that helps develop social and environmental enterprises\, principally in Africa and Latin America. He studied theology\, philosophy and the psychology of religion at university\, after which he helped found the Prison Phoenix Trust that teaches meditation and yoga to people in prison\, and from this discovered a gift for starting things (and leaving them in better hands so they flourished). This has included a microfinance bank in the Balkans\, a charity focused on community mental health in poor communities in the Global South and a social investment fund. In between launches\, he is also to be found in contemplative communities recovering! 
URL:https://paricenter.com/event/martin-bubers-i-and-thou/
ATTACH;FMTTYPE=image/jpeg:https://paricenter.com/wp-content/uploads/2023/12/poster-Book-a-month-e1701881893664.jpg
END:VEVENT
END:VCALENDAR